{
 "currentVersion": 11.4,
 "serviceDescription": "GeoEquity/Washoe_Land_Cover",
 "name": "GeoEquity/Washoe_Land_Cover",
 "description": "",
 "extent": {
  "xmin": 2223511.0730897523,
  "ymin": 1.4790884290148165E7,
  "xmax": 2337735.0787342666,
  "ymax": 1.4952139907159334E7,
  "spatialReference": {
   "wkid": 102709,
   "latestWkid": 3423
  }
 },
 "initialExtent": {
  "xmin": 2223511.0730897523,
  "ymin": 1.4790884290148165E7,
  "xmax": 2337735.0787342666,
  "ymax": 1.4952139907159334E7,
  "spatialReference": {
   "wkid": 102709,
   "latestWkid": 3423
  }
 },
 "fullExtent": {
  "xmin": 2223511.0730897523,
  "ymin": 1.4790884290148165E7,
  "xmax": 2337735.0787342666,
  "ymax": 1.4952139907159334E7,
  "spatialReference": {
   "wkid": 102709,
   "latestWkid": 3423
  }
 },
 "sortableFields": "",
 "bandCount": 1,
 "pixelType": "U8",
 "minValues": [
  1
 ],
 "maxValues": [
  5
 ],
 "meanValues": [
  2.721979460324881
 ],
 "stdvValues": [
  1.1479186177757492
 ],
 "hasMultidimensions": false,
 "pixelSizeX": 3.2807906033006153,
 "pixelSizeY": 3.2807539268222854,
 "meanPixelSize": 0.9999813863535029,
 "datasetFormat": "FGDBR",
 "uncompressedSize": 1711276032,
 "blockWidth": 128,
 "blockHeight": 128,
 "compressionType": "LZ77",
 "bandNames": [
  "Band_1"
 ],
 "allowCopy": true,
 "allowAnalysis": true,
 "itemAccess": false,
 "inspectionCapabilities": "",
 "minPixelSize": 0,
 "maxPixelSize": 0,
 "copyrightText": "",
 "serviceDataType": "esriImageServiceDataTypeGeneric",
 "serviceSourceType": "esriImageServiceSourceTypeDataset",
 "objectIdField": "",
 "fields": [],
 "capabilities": "Image,Metadata,Mensuration",
 "defaultMosaicMethod": "Center",
 "allowedMosaicMethods": "",
 "sortField": "",
 "sortValue": null,
 "sortAscending": true,
 "mosaicOperator": "First",
 "defaultCompressionQuality": 75,
 "defaultResamplingMethod": "Bilinear",
 "maxImageHeight": 4100,
 "maxImageWidth": 15000,
 "allowRasterFunction": true,
 "rasterFunctionInfos": [
  {
   "name": "None",
   "description": "",
   "help": ""
  }
 ],
 "rasterTypeInfos": [
  {
   "name": "Raster Dataset",
   "description": "Supports all ArcGIS Raster Datasets",
   "help": ""
  }
 ],
 "mensurationCapabilities": "Basic",
 "hasHistograms": true,
 "hasColormap": false,
 "hasRasterAttributeTable": true,
 "minScale": 0,
 "maxScale": 0,
 "exportTilesAllowed": false,
 "supportsStatistics": false,
 "supportsAdvancedQueries": false,
 "editFieldsInfo": null,
 "ownershipBasedAccessControlForRasters": null,
 "allowComputeTiePoints": false,
 "useStandardizedQueries": true,
 "advancedQueryCapabilities": {
  "useStandardizedQueries": true,
  "supportsStatistics": false,
  "supportsOrderBy": false,
  "supportsDistinct": false,
  "supportsPagination": false
 },
 "spatialReference": {
  "wkid": 102709,
  "latestWkid": 3423
 }
}
